Workbook
Name eq_code: 'Équipements'!$A$6:$A$205
Name eq_des: 'Équipements'!$B$6:$B$205
Name eq_model: 'Équipements'!$C$6:$C$205
Name eq_shop: 'Équipements'!$D$6:$D$205
Name eq_crit: 'Équipements'!$E$6:$E$205
Name eq_start: 'Équipements'!$F$6:$F$205
Name eq_hours: 'Équipements'!$G$6:$G$205
Name eq_unit: 'Équipements'!$H$6:$H$205
Name eq_use: 'Équipements'!$J$6:$J$205
Name eq_cnt: 'Équipements'!$K$6:$K$205
Name eq_check: 'Équipements'!$P$6:$P$205
Name pl_num: 'Plans préventifs'!$A$6:$A$505
Name pl_eq: 'Plans préventifs'!$B$6:$B$505
Name pl_task: 'Plans préventifs'!$D$6:$D$505
Name pl_trig: 'Plans préventifs'!$E$6:$E$505
Name pl_dur: 'Plans préventifs'!$H$6:$H$505
Name pl_due: 'Plans préventifs'!$T$6:$T$505
Name pl_left: 'Plans préventifs'!$R$6:$R$505
Name pl_cleft: 'Plans préventifs'!$S$6:$S$505
Name pl_status: 'Plans préventifs'!$U$6:$U$505
Name pl_check: 'Plans préventifs'!$V$6:$V$505
Name pl_period: 'Plans préventifs'!$Y$6:$Y$505
Name pl_rank: 'Plans préventifs'!$AA$6:$AA$505
Name pl_crit: 'Plans préventifs'!$AB$6:$AB$505
Name in_num: 'Interventions'!$A$6:$A$2005
Name in_date: 'Interventions'!$B$6:$B$2005
Name in_eq: 'Interventions'!$C$6:$C$2005
Name in_type: 'Interventions'!$E$6:$E$2005
Name in_plan: 'Interventions'!$F$6:$F$2005
Name in_desc: 'Interventions'!$G$6:$G$2005
Name in_cause: 'Interventions'!$H$6:$H$2005
Name in_status: 'Interventions'!$I$6:$I$2005
Name in_counter: 'Interventions'!$J$6:$J$2005
Name in_stopraw: 'Interventions'!$K$6:$K$2005
Name in_workraw: 'Interventions'!$L$6:$L$2005
Name in_tech: 'Interventions'!$M$6:$M$2005
Name in_partsraw: 'Interventions'!$N$6:$N$2005
Name in_mo: 'Interventions'!$O$6:$O$2005
Name in_otherraw: 'Interventions'!$P$6:$P$2005
Name in_total: 'Interventions'!$Q$6:$Q$2005
Name in_check: 'Interventions'!$R$6:$R$2005
Name in_dnum: 'Interventions'!$S$6:$S$2005
Name in_cnum: 'Interventions'!$T$6:$T$2005
Name in_stop: 'Interventions'!$U$6:$U$2005
Name in_work: 'Interventions'!$V$6:$V$2005
Name in_done: 'Interventions'!$W$6:$W$2005
Name in_prev: 'Interventions'!$X$6:$X$2005
Name in_parts: 'Interventions'!$Y$6:$Y$2005
Name in_other: 'Interventions'!$Z$6:$Z$2005
Name tech_name: 'Paramètres'!$D$6:$D$35
Name tech_rate: 'Paramètres'!$F$6:$F$35
Name shop_list: 'Paramètres'!$H$6:$H$35
Name unit_list: 'Paramètres'!$J$6:$J$20
Name p_holidays: 'Paramètres'!$L$6:$L$45
Name p_company: 'Paramètres'!$B$5
Name p_today_in: 'Paramètres'!$B$7
Name p_soon: 'Paramètres'!$B$8
Name p_soon_pct: 'Paramètres'!$B$9
Name p_days: 'Paramètres'!$B$10
Name p_today: 'Paramètres'!$B$13

Sheet Mode d'emploi
B1: Plan de maintenance préventive
B2: Mode d'emploi. Lisez cette page une fois, puis travaillez surtout dans « Interventions » et « Plans préventifs ».
B5: Les feuilles du classeur
B6: → Tableau de bord | C6: Plans en retard, disponibilité, part du préventif, coûts du mois et échéances des 12 prochaines semaines.
B7: → Plans préventifs | C7: Vos plans de maintenance préventive : tâche, périodicité en jours ou au compteur, prochaine échéance et statut.
B8: → Interventions | C8: Le journal des interventions (préventives, correctives, améliorations) : la feuille que vous remplissez au quotidien.
B9: → Calendrier | C9: Les échéances préventives des 12 prochaines semaines, plan par plan, en couleur.
B10: → Fiche d'intervention | C10: Une fiche d'intervention (bon de travail) imprimable : choisissez un numéro, ou imprimez-la vierge.
B11: → Indicateurs | C11: MTBF, MTTR, disponibilité, heures et coûts par équipement, sur la période de votre choix.
B12: → Équipements | C12: La liste de vos équipements : criticité, mise en service, heures d'ouverture, compteur.
B13: → Paramètres | C13: Entreprise, devise, date de situation, alertes, techniciens, ateliers, unités de compteur, jours fériés.
B16: Démarrer en 5 étapes
B17: 1. Paramètres | C17: Nom de l'entreprise, devise (MAD, EUR ou USD), jours travaillés, délai d'alerte « Bientôt » et la liste des techniciens avec leur taux horaire. Laissez la date de situation vide : le fichier prend la date du jour.
B18: 2. Équipements | C18: Une ligne par machine ou installation : code unique (TOUR-01), désignation, atelier, criticité A, B ou C, date de mise en service, heures d'ouverture par jour. Pour les machines suivies au compteur : l'unité, le dernier relevé et l'usage moyen par semaine.
B19: 3. Plans préventifs | C19: Une ligne par tâche répétitive : l'équipement, la tâche, le déclenchement (Calendrier, Compteur ou Au premier des deux), la périodicité et la date ou le compteur de la dernière réalisation. La prochaine échéance et le statut se calculent.
B20: 4. Interventions | C20: Chaque intervention faite ou à faire : date, équipement, type, plan lié pour un préventif, description, statut, durées, technicien, coût des pièces. Une intervention préventive terminée met à jour la dernière réalisation de son plan.
B21: 5. Suivre | C21: Le tableau de bord, le calendrier et les indicateurs se mettent à jour seuls. La fiche d'intervention s'imprime pour chaque bon de travail.
B23: Comment le fichier calcule
B24: Dernière réalisation | C24: La date la plus récente entre la date saisie dans le plan et les interventions préventives terminées liées à ce plan dans le journal. Même règle pour le compteur : le plus grand relevé.
B25: Prochaine échéance | C25: Calendrier : dernière réalisation + périodicité en jours (sans réalisation, la date de mise en service sert de départ). Compteur : compteur de la dernière réalisation + périodicité. Au premier des deux : le premier terme atteint.
B26: Statut d'un plan | C26: En retard : l'échéance est dépassée (date passée ou compteur dépassé). Bientôt : il reste au plus le délai d'alerte en jours, ou au plus le pourcentage d'alerte de la périodicité au compteur. À jour : sinon. Inactif : plan mis en pause (Actif = Non). À compléter : il manque la périodicité ou le point de départ.
B27: Échéance estimée | C27: Pour un plan au compteur, le fichier estime la date avec l'usage moyen par semaine de l'équipement : date de situation + compteur restant / usage x 7. Sans usage moyen, le plan n'a pas de date et n'apparaît pas dans le calendrier.
B28: Compteur retenu | C28: Le plus grand des deux : le dernier relevé saisi dans « Équipements » ou le plus grand compteur relevé lors d'une intervention terminée.
B29: Main-d'oeuvre | C29: Durée d'intervention x taux horaire du technicien (feuille Paramètres). Les prestataires et la sous-traitance vont dans « Autres coûts ».
B30: Indicateurs | C30: Temps d'ouverture = heures d'ouverture par jour x jours travaillés de la période. Panne = intervention corrective terminée. MTBF = (ouverture - arrêts) / pannes. MTTR = durée d'intervention des pannes / pannes. Disponibilité = (ouverture - arrêts) / ouverture. Part du préventif = heures préventives / heures totales d'intervention.
B32: Couleurs et contrôles
B33: Cellules blanches | C33: À remplir par vous.
B34: Cellules grises | C34: Calculées par une formule. Ne tapez pas dedans.
B35: Colonne Contrôle | C35: Chaque ligne est vérifiée : code en double, équipement ou plan inconnu, périodicité manquante, date invalide, durée négative, plan d'un autre équipement, compteur manquant pour un plan au compteur. Une ligne correcte affiche OK.
B37: Bonnes pratiques et limites
B38: Relevés de compteur | C38: Mettez à jour le dernier relevé de chaque machine au moins une fois par semaine, ou saisissez le compteur à chaque intervention : c'est lui qui déclenche les plans au compteur.
B39: Arrêt et intervention | C39: La durée d'arrêt est le temps où la machine n'a pas produit (attente comprise). La durée d'intervention est le temps de travail du technicien. Les deux servent aux indicateurs.
B40: Un plan = une tâche | C40: Faites un plan par tâche et par équipement (graissage toutes les 2 semaines, vidange toutes les 2 000 heures). Ne renommez pas un N° de plan qui a déjà des interventions.
B41: Capacité | C41: 200 équipements, 500 plans, 2000 interventions, 30 techniciens, 40 jours fériés. Le calendrier couvre 12 semaines, le tableau de bord 12 mois.
B42: Compatibilité | C42: Excel 2010 et suivants (Windows, Mac), Excel en ligne, LibreOffice Calc et Google Sheets. Aucune macro VBA, aucune feuille protégée : le fichier s'ouvre partout, y compris sur un poste où les macros sont bloquées.
B44: Saisie | C44: Calcul auto

Sheet Tableau de bord
B1: ="Maintenance préventive"&IF(p_company<>""," : "&p_company,"") -> Maintenance préventive | N1: ⌂ Mode d'emploi
B2: Tout se calcule depuis « Équipements », « Plans préventifs » et « Interventions ».
H3: Indicateurs du | J3: =p_from -> 46023 | K3: au | L3: =p_to -> 46331 | M3: Situation au | P3: =p_today -> 46331
B5: PLANS EN RETARD | E5: PLANS BIENTÔT DUS | H5: DISPONIBILITÉ | K5: PART DU PRÉVENTIF | N5: COÛT DE LA PÉRIODE
B6: =COUNTIF(pl_status,"En retard") -> 0 | E6: =COUNTIF(pl_status,"Bientôt") -> 0 | H6: =IF(ISNUMBER('Indicateurs'!J11),'Indicateurs'!J11,"") | K6: =IF(ISNUMBER('Indicateurs'!N11),'Indicateurs'!N11,"") | N6: ='Indicateurs'!R11 -> 0
B7: Échéance dépassée | E7: ="Sous "&p_soon&" jours ou "&ROUND(p_soon_pct*100,0)&" % du compteur" -> Sous 14 jours ou 10 % du compteur | H7: (Ouverture - arrêts) / ouverture | K7: En heures d'intervention | N7: Pièces, main-d'oeuvre, autres
B9: =IF(COUNTIF(eq_check,"?*")-COUNTIF(eq_check,"OK")+COUNTIF(pl_check,"?*")-COUNTIF(pl_check,"OK")+COUNTIF(in_check,"?*")-COUNTIF(in_check,"OK")>0,COUNTIF(eq_check,"?*")-COUNTIF(eq_check,"OK")+COUNTIF(pl_check,"?*")-COUNTIF(pl_check,"OK")+COUNTIF(in_check,"?*")-COUNTIF(in_check,"OK")&" ligne(s) signalée(s) dans les colonnes Contrôle : filtrez-les pour les corriger.","Toutes les lignes saisies sont valides.") -> Toutes les lignes saisies sont valides.
B11: Échéances préventives, 12 semaines
B12: Semaine | C12: Lundi | D12: Réalisations | E12: Heures prévues
B13: ='Calendrier'!G5 -> S45 | C13: ='Calendrier'!G6 -> 46328 | D13: ='Calendrier'!G7 -> 0 | E13: ='Calendrier'!G8 -> 0
B14: ='Calendrier'!H5 -> S46 | C14: ='Calendrier'!H6 -> 46335 | D14: ='Calendrier'!H7 -> 0 | E14: ='Calendrier'!H8 -> 0
B15: ='Calendrier'!I5 -> S47 | C15: ='Calendrier'!I6 -> 46342 | D15: ='Calendrier'!I7 -> 0 | E15: ='Calendrier'!I8 -> 0
B16: ='Calendrier'!J5 -> S48 | C16: ='Calendrier'!J6 -> 46349 | D16: ='Calendrier'!J7 -> 0 | E16: ='Calendrier'!J8 -> 0
B17: ='Calendrier'!K5 -> S49 | C17: ='Calendrier'!K6 -> 46356 | D17: ='Calendrier'!K7 -> 0 | E17: ='Calendrier'!K8 -> 0
B18: ='Calendrier'!L5 -> S50 | C18: ='Calendrier'!L6 -> 46363 | D18: ='Calendrier'!L7 -> 0 | E18: ='Calendrier'!L8 -> 0
B19: ='Calendrier'!M5 -> S51 | C19: ='Calendrier'!M6 -> 46370 | D19: ='Calendrier'!M7 -> 0 | E19: ='Calendrier'!M8 -> 0
B20: ='Calendrier'!N5 -> S52 | C20: ='Calendrier'!N6 -> 46377 | D20: ='Calendrier'!N7 -> 0 | E20: ='Calendrier'!N8 -> 0
B21: ='Calendrier'!O5 -> S53 | C21: ='Calendrier'!O6 -> 46384 | D21: ='Calendrier'!O7 -> 0 | E21: ='Calendrier'!O8 -> 0
B22: ='Calendrier'!P5 -> S1 | C22: ='Calendrier'!P6 -> 46391 | D22: ='Calendrier'!P7 -> 0 | E22: ='Calendrier'!P8 -> 0
B23: ='Calendrier'!Q5 -> S2 | C23: ='Calendrier'!Q6 -> 46398 | D23: ='Calendrier'!Q7 -> 0 | E23: ='Calendrier'!Q8 -> 0
B24: ='Calendrier'!R5 -> S3 | C24: ='Calendrier'!R6 -> 46405 | D24: ='Calendrier'!R7 -> 0 | E24: ='Calendrier'!R8 -> 0
B27: Coût de maintenance par mois, 12 mois
B28: Mois | C28: Préventif | D28: Correctif | E28: Amélioratif | F28: Total
B29: =DATE(YEAR(p_today),MONTH(p_today)-11,1) -> 45992 | C29: =SUMIFS(in_total,in_done,1,in_type,"Préventif",in_dnum,">="&$B29,in_dnum,"<"&DATE(YEAR($B29),MONTH($B29)+1,1)) -> 0 | D29: =SUMIFS(in_total,in_done,1,in_type,"Correctif",in_dnum,">="&$B29,in_dnum,"<"&DATE(YEAR($B29),MONTH($B29)+1,1)) -> 0 | E29: =SUMIFS(in_total,in_done,1,in_type,"Amélioratif",in_dnum,">="&$B29,in_dnum,"<"&DATE(YEAR($B29),MONTH($B29)+1,1)) -> 0 | F29: =SUM(C29:E29) -> 0
B30: =DATE(YEAR(p_today),MONTH(p_today)-10,1) -> 46023 | C30: =SUMIFS(in_total,in_done,1,in_type,"Préventif",in_dnum,">="&$B30,in_dnum,"<"&DATE(YEAR($B30),MONTH($B30)+1,1)) -> 0 | D30: =SUMIFS(in_total,in_done,1,in_type,"Correctif",in_dnum,">="&$B30,in_dnum,"<"&DATE(YEAR($B30),MONTH($B30)+1,1)) -> 0 | E30: =SUMIFS(in_total,in_done,1,in_type,"Amélioratif",in_dnum,">="&$B30,in_dnum,"<"&DATE(YEAR($B30),MONTH($B30)+1,1)) -> 0 | F30: =SUM(C30:E30) -> 0
B31: =DATE(YEAR(p_today),MONTH(p_today)-9,1) -> 46054 | C31: =SUMIFS(in_total,in_done,1,in_type,"Préventif",in_dnum,">="&$B31,in_dnum,"<"&DATE(YEAR($B31),MONTH($B31)+1,1)) -> 0 | D31: =SUMIFS(in_total,in_done,1,in_type,"Correctif",in_dnum,">="&$B31,in_dnum,"<"&DATE(YEAR($B31),MONTH($B31)+1,1)) -> 0 | E31: =SUMIFS(in_total,in_done,1,in_type,"Amélioratif",in_dnum,">="&$B31,in_dnum,"<"&DATE(YEAR($B31),MONTH($B31)+1,1)) -> 0 | F31: =SUM(C31:E31) -> 0
B32: =DATE(YEAR(p_today),MONTH(p_today)-8,1) -> 46082 | C32: =SUMIFS(in_total,in_done,1,in_type,"Préventif",in_dnum,">="&$B32,in_dnum,"<"&DATE(YEAR($B32),MONTH($B32)+1,1)) -> 0 | D32: =SUMIFS(in_total,in_done,1,in_type,"Correctif",in_dnum,">="&$B32,in_dnum,"<"&DATE(YEAR($B32),MONTH($B32)+1,1)) -> 0 | E32: =SUMIFS(in_total,in_done,1,in_type,"Amélioratif",in_dnum,">="&$B32,in_dnum,"<"&DATE(YEAR($B32),MONTH($B32)+1,1)) -> 0 | F32: =SUM(C32:E32) -> 0
B33: =DATE(YEAR(p_today),MONTH(p_today)-7,1) -> 46113 | C33: =SUMIFS(in_total,in_done,1,in_type,"Préventif",in_dnum,">="&$B33,in_dnum,"<"&DATE(YEAR($B33),MONTH($B33)+1,1)) -> 0 | D33: =SUMIFS(in_total,in_done,1,in_type,"Correctif",in_dnum,">="&$B33,in_dnum,"<"&DATE(YEAR($B33),MONTH($B33)+1,1)) -> 0 | E33: =SUMIFS(in_total,in_done,1,in_type,"Amélioratif",in_dnum,">="&$B33,in_dnum,"<"&DATE(YEAR($B33),MONTH($B33)+1,1)) -> 0 | F33: =SUM(C33:E33) -> 0
B34: =DATE(YEAR(p_today),MONTH(p_today)-6,1) -> 46143 | C34: =SUMIFS(in_total,in_done,1,in_type,"Préventif",in_dnum,">="&$B34,in_dnum,"<"&DATE(YEAR($B34),MONTH($B34)+1,1)) -> 0 | D34: =SUMIFS(in_total,in_done,1,in_type,"Correctif",in_dnum,">="&$B34,in_dnum,"<"&DATE(YEAR($B34),MONTH($B34)+1,1)) -> 0 | E34: =SUMIFS(in_total,in_done,1,in_type,"Amélioratif",in_dnum,">="&$B34,in_dnum,"<"&DATE(YEAR($B34),MONTH($B34)+1,1)) -> 0 | F34: =SUM(C34:E34) -> 0
B35: =DATE(YEAR(p_today),MONTH(p_today)-5,1) -> 46174 | C35: =SUMIFS(in_total,in_done,1,in_type,"Préventif",in_dnum,">="&$B35,in_dnum,"<"&DATE(YEAR($B35),MONTH($B35)+1,1)) -> 0 | D35: =SUMIFS(in_total,in_done,1,in_type,"Correctif",in_dnum,">="&$B35,in_dnum,"<"&DATE(YEAR($B35),MONTH($B35)+1,1)) -> 0 | E35: =SUMIFS(in_total,in_done,1,in_type,"Amélioratif",in_dnum,">="&$B35,in_dnum,"<"&DATE(YEAR($B35),MONTH($B35)+1,1)) -> 0 | F35: =SUM(C35:E35) -> 0
B36: =DATE(YEAR(p_today),MONTH(p_today)-4,1) -> 46204 | C36: =SUMIFS(in_total,in_done,1,in_type,"Préventif",in_dnum,">="&$B36,in_dnum,"<"&DATE(YEAR($B36),MONTH($B36)+1,1)) -> 0 | D36: =SUMIFS(in_total,in_done,1,in_type,"Correctif",in_dnum,">="&$B36,in_dnum,"<"&DATE(YEAR($B36),MONTH($B36)+1,1)) -> 0 | E36: =SUMIFS(in_total,in_done,1,in_type,"Amélioratif",in_dnum,">="&$B36,in_dnum,"<"&DATE(YEAR($B36),MONTH($B36)+1,1)) -> 0 | F36: =SUM(C36:E36) -> 0
B37: =DATE(YEAR(p_today),MONTH(p_today)-3,1) -> 46235 | C37: =SUMIFS(in_total,in_done,1,in_type,"Préventif",in_dnum,">="&$B37,in_dnum,"<"&DATE(YEAR($B37),MONTH($B37)+1,1)) -> 0 | D37: =SUMIFS(in_total,in_done,1,in_type,"Correctif",in_dnum,">="&$B37,in_dnum,"<"&DATE(YEAR($B37),MONTH($B37)+1,1)) -> 0 | E37: =SUMIFS(in_total,in_done,1,in_type,"Amélioratif",in_dnum,">="&$B37,in_dnum,"<"&DATE(YEAR($B37),MONTH($B37)+1,1)) -> 0 | F37: =SUM(C37:E37) -> 0
B38: =DATE(YEAR(p_today),MONTH(p_today)-2,1) -> 46266 | C38: =SUMIFS(in_total,in_done,1,in_type,"Préventif",in_dnum,">="&$B38,in_dnum,"<"&DATE(YEAR($B38),MONTH($B38)+1,1)) -> 0 | D38: =SUMIFS(in_total,in_done,1,in_type,"Correctif",in_dnum,">="&$B38,in_dnum,"<"&DATE(YEAR($B38),MONTH($B38)+1,1)) -> 0 | E38: =SUMIFS(in_total,in_done,1,in_type,"Amélioratif",in_dnum,">="&$B38,in_dnum,"<"&DATE(YEAR($B38),MONTH($B38)+1,1)) -> 0 | F38: =SUM(C38:E38) -> 0
B39: =DATE(YEAR(p_today),MONTH(p_today)-1,1) -> 46296 | C39: =SUMIFS(in_total,in_done,1,in_type,"Préventif",in_dnum,">="&$B39,in_dnum,"<"&DATE(YEAR($B39),MONTH($B39)+1,1)) -> 0 | D39: =SUMIFS(in_total,in_done,1,in_type,"Correctif",in_dnum,">="&$B39,in_dnum,"<"&DATE(YEAR($B39),MONTH($B39)+1,1)) -> 0 | E39: =SUMIFS(in_total,in_done,1,in_type,"Amélioratif",in_dnum,">="&$B39,in_dnum,"<"&DATE(YEAR($B39),MONTH($B39)+1,1)) -> 0 | F39: =SUM(C39:E39) -> 0
B40: =DATE(YEAR(p_today),MONTH(p_today)-0,1) -> 46327 | C40: =SUMIFS(in_total,in_done,1,in_type,"Préventif",in_dnum,">="&$B40,in_dnum,"<"&DATE(YEAR($B40),MONTH($B40)+1,1)) -> 0 | D40: =SUMIFS(in_total,in_done,1,in_type,"Correctif",in_dnum,">="&$B40,in_dnum,"<"&DATE(YEAR($B40),MONTH($B40)+1,1)) -> 0 | E40: =SUMIFS(in_total,in_done,1,in_type,"Amélioratif",in_dnum,">="&$B40,in_dnum,"<"&DATE(YEAR($B40),MONTH($B40)+1,1)) -> 0 | F40: =SUM(C40:E40) -> 0
B43: Heures d'intervention par type | E43: Fiabilité de la période | H43: Plans à traiter en priorité (les 12 premiers)
B44: Type | D44: Heures | E44: MTBF (h) | G44: =IF(ISNUMBER('Indicateurs'!G11),'Indicateurs'!G11,"") | H44: N° plan | I44: Équipement | J44: Tâche | L44: Crit. | M44: Échéance | N44: Jours rest. | O44: Compteur rest. | P44: Statut
B45: Préventif | D45: ='Indicateurs'!K11 -> 0 | E45: MTTR (h) | G45: =IF(ISNUMBER('Indicateurs'!H11),'Indicateurs'!H11,"") | H45: =IFERROR(INDEX(pl_num,MATCH(1,pl_rank,0))&"","") | I45: =IFERROR(INDEX(pl_eq,MATCH(1,pl_rank,0))&"","") | J45: =IFERROR(INDEX(pl_task,MATCH(1,pl_rank,0))&"","") | L45: =IFERROR(INDEX(pl_crit,MATCH(1,pl_rank,0))&"","") | M45: =IFERROR(IF(ISNUMBER(INDEX(pl_due,MATCH(1,pl_rank,0))),INDEX(pl_due,MATCH(1,pl_rank,0)),""),"") | N45: =IFERROR(IF(ISNUMBER(INDEX(pl_left,MATCH(1,pl_rank,0))),INDEX(pl_left,MATCH(1,pl_rank,0)),""),"") | O45: =IFERROR(IF(ISNUMBER(INDEX(pl_cleft,MATCH(1,pl_rank,0))),INDEX(pl_cleft,MATCH(1,pl_rank,0)),""),"") | P45: =IFERROR(INDEX(pl_status,MATCH(1,pl_rank,0))&"","")
B46: Correctif | D46: ='Indicateurs'!L11 -> 0 | E46: Arrêt moyen par panne (h) | G46: =IF(ISNUMBER('Indicateurs'!I11),'Indicateurs'!I11,"") | H46: =IFERROR(INDEX(pl_num,MATCH(2,pl_rank,0))&"","") | I46: =IFERROR(INDEX(pl_eq,MATCH(2,pl_rank,0))&"","") | J46: =IFERROR(INDEX(pl_task,MATCH(2,pl_rank,0))&"","") | L46: =IFERROR(INDEX(pl_crit,MATCH(2,pl_rank,0))&"","") | M46: =IFERROR(IF(ISNUMBER(INDEX(pl_due,MATCH(2,pl_rank,0))),INDEX(pl_due,MATCH(2,pl_rank,0)),""),"") | N46: =IFERROR(IF(ISNUMBER(INDEX(pl_left,MATCH(2,pl_rank,0))),INDEX(pl_left,MATCH(2,pl_rank,0)),""),"") | O46: =IFERROR(IF(ISNUMBER(INDEX(pl_cleft,MATCH(2,pl_rank,0))),INDEX(pl_cleft,MATCH(2,pl_rank,0)),""),"") | P46: =IFERROR(INDEX(pl_status,MATCH(2,pl_rank,0))&"","")
B47: Amélioratif | D47: ='Indicateurs'!M11 -> 0 | E47: Pannes | G47: =IF(ISNUMBER('Indicateurs'!F11),'Indicateurs'!F11,"") -> 0 | H47: =IFERROR(INDEX(pl_num,MATCH(3,pl_rank,0))&"","") | I47: =IFERROR(INDEX(pl_eq,MATCH(3,pl_rank,0))&"","") | J47: =IFERROR(INDEX(pl_task,MATCH(3,pl_rank,0))&"","") | L47: =IFERROR(INDEX(pl_crit,MATCH(3,pl_rank,0))&"","") | M47: =IFERROR(IF(ISNUMBER(INDEX(pl_due,MATCH(3,pl_rank,0))),INDEX(pl_due,MATCH(3,pl_rank,0)),""),"") | N47: =IFERROR(IF(ISNUMBER(INDEX(pl_left,MATCH(3,pl_rank,0))),INDEX(pl_left,MATCH(3,pl_rank,0)),""),"") | O47: =IFERROR(IF(ISNUMBER(INDEX(pl_cleft,MATCH(3,pl_rank,0))),INDEX(pl_cleft,MATCH(3,pl_rank,0)),""),"") | P47: =IFERROR(INDEX(pl_status,MATCH(3,pl_rank,0))&"","")
...

Sheet Plans préventifs
A1: Plans préventifs | T1: ⌂ Mode d'emploi
A2: Une ligne par tâche répétitive. La dernière réalisation se met à jour avec le journal des interventions.
U3: Saisie | V3: Calcul auto
A5: N° plan | B5: Équipement | C5: Désignation | D5: Tâche | E5: Déclenchement | F5: Tous les (jours) | G5: Tous les (compteur) | H5: Durée estimée (h) | I5: Technicien | J5: Dernière réalisation (saisie) | K5: Compteur à cette date (saisie) | L5: Actif | M5: Dernière réalisation | N5: Compteur dernière réalisation | O5: Prochaine échéance | P5: Prochain compteur | Q5: Compteur actuel | R5: Jours restants | S5: Compteur restant | T5: Échéance estimée | U5: Statut | V5: Contrôle | W5: Usage | X5: Date compteur | Y5: Période | Z5: Clé | AA5: Rang | AB5: Crit.
C6: =IF(B6="","",IFERROR(INDEX(eq_des,MATCH(B6,eq_code,0))&"","Équipement inconnu")) | M6: =IF(AND(A6="",B6="",D6=""),"",MAX(N(J6),IF(A6="",0,SUMPRODUCT(MAX((in_plan=A6)*in_prev*in_dnum))))) | N6: =IF(AND(A6="",B6="",D6=""),"",MAX(N(K6),IF(A6="",0,SUMPRODUCT(MAX((in_plan=A6)*in_prev*in_cnum))))) | O6: =IF(AND(OR(E6="Calendrier",E6="Au premier des deux"),N(F6)>0,IF(N(M6)>0,M6,IFERROR(N(INDEX(eq_start,MATCH(B6,eq_code,0))),0))>0),IF(N(M6)>0,M6,IFERROR(N(INDEX(eq_start,MATCH(B6,eq_code,0))),0))+F6,"") | P6: =IF(AND(OR(E6="Compteur",E6="Au premier des deux"),N(G6)>0),N(N6)+G6,"") | Q6: =IF(B6="","",IFERROR(N(INDEX(eq_cnt,MATCH(B6,eq_code,0))),"")) | R6: =IF(ISNUMBER(O6),O6-p_today,"") | S6: =IF(AND(ISNUMBER(P6),N(Q6)>0),P6-Q6,"") | T6: =IF(AND(ISNUMBER(O6),ISNUMBER(X6)),MIN(O6,X6),IF(ISNUMBER(O6),O6,X6)) | U6: =IF(AND(A6="",B6="",D6=""),"",IF(L6="Non","Inactif",IF(AND(NOT(ISNUMBER(R6)),NOT(ISNUMBER(S6))),"À compléter",IF(OR(AND(ISNUMBER(R6),N(R6)<0),AND(ISNUMBER(S6),N(S6)<0)),"En retard",IF(OR(AND(ISNUMBER(R6),N(R6)<=p_soon),AND(ISNUMBER(S6),N(S6)<=p_soon_pct*N(G6))),"Bientôt","À jour"))))) | V6: =IF(AND(A6="",B6="",D6=""),"",IF(A6="","N° de plan manquant",IF(COUNTIF($A$6:$A$505,A6)>1,"N° de plan en double",IF(B6="","Équipement manquant",IF(ISNA(MATCH(B6,eq_code,0)),"Équipement inconnu",IF(D6="","Tâche manquante",IF(E6="","Déclenchement manquant",IF(AND(E6<>"Calendrier",E6<>"Compteur",E6<>"Au premier des deux"),"Déclenchement inconnu",IF(AND(E6<>"Compteur",OR(NOT(ISNUMBER(F6)),N(F6)<=0)),"Périodicité en jours manquante",IF(AND(E6<>"Calendrier",OR(NOT(ISNUMBER(G6)),N(G6)<=0)),"Périodicité compteur manquante",IF(AND(J6<>"",OR(NOT(ISNUMBER(J6)),N(J6)<=0)),"Date de réalisation invalide",IF(AND(K6<>"",OR(NOT(ISNUMBER(K6)),N(K6)<0)),"Compteur de réalisation invalide",IF(AND(E6<>"Compteur",N(M6)=0,IFERROR(N(INDEX(eq_start,MATCH(B6,eq_code,0))),0)=0),"Date de départ manquante",IF(AND(E6<>"Calendrier",K6="",N(N6)=0),"Compteur de départ manquant",IF(AND(E6<>"Calendrier",N(Q6)=0),"Relevé compteur manquant (Équipements)",IF(AND(I6<>"",ISNA(MATCH(I6,tech_name,0))),"Technicien inconnu",IF(AND(L6<>"",L6<>"Oui",L6<>"Non"),"Actif : Oui ou Non","OK"))))))))))))))))) | W6: =IFERROR(N(INDEX(eq_use,MATCH(B6,eq_code,0))),0) -> 0 | X6: =IF(AND(ISNUMBER(S6),W6>0),p_today+MAX(0,ROUNDUP(S6*7/W6,0)),"") | Y6: =IF(AND(ISNUMBER(T6),OR(U6="En retard",U6="Bientôt",U6="À jour")),IF(AND(ISNUMBER(O6),ISNUMBER(X6)),MIN(F6,G6*7/W6),IF(ISNUMBER(O6),F6,G6*7/W6)),"") | Z6: =IF(OR(U6="En retard",U6="Bientôt"),IF(U6="En retard",0,1)*1000000000+IF(AB6="A",0,IF(AB6="B",1,IF(AB6="C",2,3)))*100000000+IF(ISNUMBER(T6),T6,p_today)*1000+ROW()-5,"") | AA6: =IF(Z6="","",COUNTIF($Z$6:$Z$505,"<"&Z6)+1) | AB6: =IFERROR(INDEX(eq_crit,MATCH(B6,eq_code,0))&"","")
C7: =IF(B7="","",IFERROR(INDEX(eq_des,MATCH(B7,eq_code,0))&"","Équipement inconnu")) | M7: =IF(AND(A7="",B7="",D7=""),"",MAX(N(J7),IF(A7="",0,SUMPRODUCT(MAX((in_plan=A7)*in_prev*in_dnum))))) | N7: =IF(AND(A7="",B7="",D7=""),"",MAX(N(K7),IF(A7="",0,SUMPRODUCT(MAX((in_plan=A7)*in_prev*in_cnum))))) | O7: =IF(AND(OR(E7="Calendrier",E7="Au premier des deux"),N(F7)>0,IF(N(M7)>0,M7,IFERROR(N(INDEX(eq_start,MATCH(B7,eq_code,0))),0))>0),IF(N(M7)>0,M7,IFERROR(N(INDEX(eq_start,MATCH(B7,eq_code,0))),0))+F7,"") | P7: =IF(AND(OR(E7="Compteur",E7="Au premier des deux"),N(G7)>0),N(N7)+G7,"") | Q7: =IF(B7="","",IFERROR(N(INDEX(eq_cnt,MATCH(B7,eq_code,0))),"")) | R7: =IF(ISNUMBER(O7),O7-p_today,"") | S7: =IF(AND(ISNUMBER(P7),N(Q7)>0),P7-Q7,"") | T7: =IF(AND(ISNUMBER(O7),ISNUMBER(X7)),MIN(O7,X7),IF(ISNUMBER(O7),O7,X7)) | U7: =IF(AND(A7="",B7="",D7=""),"",IF(L7="Non","Inactif",IF(AND(NOT(ISNUMBER(R7)),NOT(ISNUMBER(S7))),"À compléter",IF(OR(AND(ISNUMBER(R7),N(R7)<0),AND(ISNUMBER(S7),N(S7)<0)),"En retard",IF(OR(AND(ISNUMBER(R7),N(R7)<=p_soon),AND(ISNUMBER(S7),N(S7)<=p_soon_pct*N(G7))),"Bientôt","À jour"))))) | V7: =IF(AND(A7="",B7="",D7=""),"",IF(A7="","N° de plan manquant",IF(COUNTIF($A$6:$A$505,A7)>1,"N° de plan en double",IF(B7="","Équipement manquant",IF(ISNA(MATCH(B7,eq_code,0)),"Équipement inconnu",IF(D7="","Tâche manquante",IF(E7="","Déclenchement manquant",IF(AND(E7<>"Calendrier",E7<>"Compteur",E7<>"Au premier des deux"),"Déclenchement inconnu",IF(AND(E7<>"Compteur",OR(NOT(ISNUMBER(F7)),N(F7)<=0)),"Périodicité en jours manquante",IF(AND(E7<>"Calendrier",OR(NOT(ISNUMBER(G7)),N(G7)<=0)),"Périodicité compteur manquante",IF(AND(J7<>"",OR(NOT(ISNUMBER(J7)),N(J7)<=0)),"Date de réalisation invalide",IF(AND(K7<>"",OR(NOT(ISNUMBER(K7)),N(K7)<0)),"Compteur de réalisation invalide",IF(AND(E7<>"Compteur",N(M7)=0,IFERROR(N(INDEX(eq_start,MATCH(B7,eq_code,0))),0)=0),"Date de départ manquante",IF(AND(E7<>"Calendrier",K7="",N(N7)=0),"Compteur de départ manquant",IF(AND(E7<>"Calendrier",N(Q7)=0),"Relevé compteur manquant (Équipements)",IF(AND(I7<>"",ISNA(MATCH(I7,tech_name,0))),"Technicien inconnu",IF(AND(L7<>"",L7<>"Oui",L7<>"Non"),"Actif : Oui ou Non","OK"))))))))))))))))) | W7: =IFERROR(N(INDEX(eq_use,MATCH(B7,eq_code,0))),0) -> 0 | X7: =IF(AND(ISNUMBER(S7),W7>0),p_today+MAX(0,ROUNDUP(S7*7/W7,0)),"") | Y7: =IF(AND(ISNUMBER(T7),OR(U7="En retard",U7="Bientôt",U7="À jour")),IF(AND(ISNUMBER(O7),ISNUMBER(X7)),MIN(F7,G7*7/W7),IF(ISNUMBER(O7),F7,G7*7/W7)),"") | Z7: =IF(OR(U7="En retard",U7="Bientôt"),IF(U7="En retard",0,1)*1000000000+IF(AB7="A",0,IF(AB7="B",1,IF(AB7="C",2,3)))*100000000+IF(ISNUMBER(T7),T7,p_today)*1000+ROW()-5,"") | AA7: =IF(Z7="","",COUNTIF($Z$6:$Z$505,"<"&Z7)+1) | AB7: =IFERROR(INDEX(eq_crit,MATCH(B7,eq_code,0))&"","")
C8: =IF(B8="","",IFERROR(INDEX(eq_des,MATCH(B8,eq_code,0))&"","Équipement inconnu")) | M8: =IF(AND(A8="",B8="",D8=""),"",MAX(N(J8),IF(A8="",0,SUMPRODUCT(MAX((in_plan=A8)*in_prev*in_dnum))))) | N8: =IF(AND(A8="",B8="",D8=""),"",MAX(N(K8),IF(A8="",0,SUMPRODUCT(MAX((in_plan=A8)*in_prev*in_cnum))))) | O8: =IF(AND(OR(E8="Calendrier",E8="Au premier des deux"),N(F8)>0,IF(N(M8)>0,M8,IFERROR(N(INDEX(eq_start,MATCH(B8,eq_code,0))),0))>0),IF(N(M8)>0,M8,IFERROR(N(INDEX(eq_start,MATCH(B8,eq_code,0))),0))+F8,"") | P8: =IF(AND(OR(E8="Compteur",E8="Au premier des deux"),N(G8)>0),N(N8)+G8,"") | Q8: =IF(B8="","",IFERROR(N(INDEX(eq_cnt,MATCH(B8,eq_code,0))),"")) | R8: =IF(ISNUMBER(O8),O8-p_today,"") | S8: =IF(AND(ISNUMBER(P8),N(Q8)>0),P8-Q8,"") | T8: =IF(AND(ISNUMBER(O8),ISNUMBER(X8)),MIN(O8,X8),IF(ISNUMBER(O8),O8,X8)) | U8: =IF(AND(A8="",B8="",D8=""),"",IF(L8="Non","Inactif",IF(AND(NOT(ISNUMBER(R8)),NOT(ISNUMBER(S8))),"À compléter",IF(OR(AND(ISNUMBER(R8),N(R8)<0),AND(ISNUMBER(S8),N(S8)<0)),"En retard",IF(OR(AND(ISNUMBER(R8),N(R8)<=p_soon),AND(ISNUMBER(S8),N(S8)<=p_soon_pct*N(G8))),"Bientôt","À jour"))))) | V8: =IF(AND(A8="",B8="",D8=""),"",IF(A8="","N° de plan manquant",IF(COUNTIF($A$6:$A$505,A8)>1,"N° de plan en double",IF(B8="","Équipement manquant",IF(ISNA(MATCH(B8,eq_code,0)),"Équipement inconnu",IF(D8="","Tâche manquante",IF(E8="","Déclenchement manquant",IF(AND(E8<>"Calendrier",E8<>"Compteur",E8<>"Au premier des deux"),"Déclenchement inconnu",IF(AND(E8<>"Compteur",OR(NOT(ISNUMBER(F8)),N(F8)<=0)),"Périodicité en jours manquante",IF(AND(E8<>"Calendrier",OR(NOT(ISNUMBER(G8)),N(G8)<=0)),"Périodicité compteur manquante",IF(AND(J8<>"",OR(NOT(ISNUMBER(J8)),N(J8)<=0)),"Date de réalisation invalide",IF(AND(K8<>"",OR(NOT(ISNUMBER(K8)),N(K8)<0)),"Compteur de réalisation invalide",IF(AND(E8<>"Compteur",N(M8)=0,IFERROR(N(INDEX(eq_start,MATCH(B8,eq_code,0))),0)=0),"Date de départ manquante",IF(AND(E8<>"Calendrier",K8="",N(N8)=0),"Compteur de départ manquant",IF(AND(E8<>"Calendrier",N(Q8)=0),"Relevé compteur manquant (Équipements)",IF(AND(I8<>"",ISNA(MATCH(I8,tech_name,0))),"Technicien inconnu",IF(AND(L8<>"",L8<>"Oui",L8<>"Non"),"Actif : Oui ou Non","OK"))))))))))))))))) | W8: =IFERROR(N(INDEX(eq_use,MATCH(B8,eq_code,0))),0) -> 0 | X8: =IF(AND(ISNUMBER(S8),W8>0),p_today+MAX(0,ROUNDUP(S8*7/W8,0)),"") | Y8: =IF(AND(ISNUMBER(T8),OR(U8="En retard",U8="Bientôt",U8="À jour")),IF(AND(ISNUMBER(O8),ISNUMBER(X8)),MIN(F8,G8*7/W8),IF(ISNUMBER(O8),F8,G8*7/W8)),"") | Z8: =IF(OR(U8="En retard",U8="Bientôt"),IF(U8="En retard",0,1)*1000000000+IF(AB8="A",0,IF(AB8="B",1,IF(AB8="C",2,3)))*100000000+IF(ISNUMBER(T8),T8,p_today)*1000+ROW()-5,"") | AA8: =IF(Z8="","",COUNTIF($Z$6:$Z$505,"<"&Z8)+1) | AB8: =IFERROR(INDEX(eq_crit,MATCH(B8,eq_code,0))&"","")
C9: =IF(B9="","",IFERROR(INDEX(eq_des,MATCH(B9,eq_code,0))&"","Équipement inconnu")) | M9: =IF(AND(A9="",B9="",D9=""),"",MAX(N(J9),IF(A9="",0,SUMPRODUCT(MAX((in_plan=A9)*in_prev*in_dnum))))) | N9: =IF(AND(A9="",B9="",D9=""),"",MAX(N(K9),IF(A9="",0,SUMPRODUCT(MAX((in_plan=A9)*in_prev*in_cnum))))) | O9: =IF(AND(OR(E9="Calendrier",E9="Au premier des deux"),N(F9)>0,IF(N(M9)>0,M9,IFERROR(N(INDEX(eq_start,MATCH(B9,eq_code,0))),0))>0),IF(N(M9)>0,M9,IFERROR(N(INDEX(eq_start,MATCH(B9,eq_code,0))),0))+F9,"") | P9: =IF(AND(OR(E9="Compteur",E9="Au premier des deux"),N(G9)>0),N(N9)+G9,"") | Q9: =IF(B9="","",IFERROR(N(INDEX(eq_cnt,MATCH(B9,eq_code,0))),"")) | R9: =IF(ISNUMBER(O9),O9-p_today,"") | S9: =IF(AND(ISNUMBER(P9),N(Q9)>0),P9-Q9,"") | T9: =IF(AND(ISNUMBER(O9),ISNUMBER(X9)),MIN(O9,X9),IF(ISNUMBER(O9),O9,X9)) | U9: =IF(AND(A9="",B9="",D9=""),"",IF(L9="Non","Inactif",IF(AND(NOT(ISNUMBER(R9)),NOT(ISNUMBER(S9))),"À compléter",IF(OR(AND(ISNUMBER(R9),N(R9)<0),AND(ISNUMBER(S9),N(S9)<0)),"En retard",IF(OR(AND(ISNUMBER(R9),N(R9)<=p_soon),AND(ISNUMBER(S9),N(S9)<=p_soon_pct*N(G9))),"Bientôt","À jour"))))) | V9: =IF(AND(A9="",B9="",D9=""),"",IF(A9="","N° de plan manquant",IF(COUNTIF($A$6:$A$505,A9)>1,"N° de plan en double",IF(B9="","Équipement manquant",IF(ISNA(MATCH(B9,eq_code,0)),"Équipement inconnu",IF(D9="","Tâche manquante",IF(E9="","Déclenchement manquant",IF(AND(E9<>"Calendrier",E9<>"Compteur",E9<>"Au premier des deux"),"Déclenchement inconnu",IF(AND(E9<>"Compteur",OR(NOT(ISNUMBER(F9)),N(F9)<=0)),"Périodicité en jours manquante",IF(AND(E9<>"Calendrier",OR(NOT(ISNUMBER(G9)),N(G9)<=0)),"Périodicité compteur manquante",IF(AND(J9<>"",OR(NOT(ISNUMBER(J9)),N(J9)<=0)),"Date de réalisation invalide",IF(AND(K9<>"",OR(NOT(ISNUMBER(K9)),N(K9)<0)),"Compteur de réalisation invalide",IF(AND(E9<>"Compteur",N(M9)=0,IFERROR(N(INDEX(eq_start,MATCH(B9,eq_code,0))),0)=0),"Date de départ manquante",IF(AND(E9<>"Calendrier",K9="",N(N9)=0),"Compteur de départ manquant",IF(AND(E9<>"Calendrier",N(Q9)=0),"Relevé compteur manquant (Équipements)",IF(AND(I9<>"",ISNA(MATCH(I9,tech_name,0))),"Technicien inconnu",IF(AND(L9<>"",L9<>"Oui",L9<>"Non"),"Actif : Oui ou Non","OK"))))))))))))))))) | W9: =IFERROR(N(INDEX(eq_use,MATCH(B9,eq_code,0))),0) -> 0 | X9: =IF(AND(ISNUMBER(S9),W9>0),p_today+MAX(0,ROUNDUP(S9*7/W9,0)),"") | Y9: =IF(AND(ISNUMBER(T9),OR(U9="En retard",U9="Bientôt",U9="À jour")),IF(AND(ISNUMBER(O9),ISNUMBER(X9)),MIN(F9,G9*7/W9),IF(ISNUMBER(O9),F9,G9*7/W9)),"") | Z9: =IF(OR(U9="En retard",U9="Bientôt"),IF(U9="En retard",0,1)*1000000000+IF(AB9="A",0,IF(AB9="B",1,IF(AB9="C",2,3)))*100000000+IF(ISNUMBER(T9),T9,p_today)*1000+ROW()-5,"") | AA9: =IF(Z9="","",COUNTIF($Z$6:$Z$505,"<"&Z9)+1) | AB9: =IFERROR(INDEX(eq_crit,MATCH(B9,eq_code,0))&"","")
C10: =IF(B10="","",IFERROR(INDEX(eq_des,MATCH(B10,eq_code,0))&"","Équipement inconnu")) | M10: =IF(AND(A10="",B10="",D10=""),"",MAX(N(J10),IF(A10="",0,SUMPRODUCT(MAX((in_plan=A10)*in_prev*in_dnum))))) | N10: =IF(AND(A10="",B10="",D10=""),"",MAX(N(K10),IF(A10="",0,SUMPRODUCT(MAX((in_plan=A10)*in_prev*in_cnum))))) | O10: =IF(AND(OR(E10="Calendrier",E10="Au premier des deux"),N(F10)>0,IF(N(M10)>0,M10,IFERROR(N(INDEX(eq_start,MATCH(B10,eq_code,0))),0))>0),IF(N(M10)>0,M10,IFERROR(N(INDEX(eq_start,MATCH(B10,eq_code,0))),0))+F10,"") | P10: =IF(AND(OR(E10="Compteur",E10="Au premier des deux"),N(G10)>0),N(N10)+G10,"") | Q10: =IF(B10="","",IFERROR(N(INDEX(eq_cnt,MATCH(B10,eq_code,0))),"")) | R10: =IF(ISNUMBER(O10),O10-p_today,"") | S10: =IF(AND(ISNUMBER(P10),N(Q10)>0),P10-Q10,"") | T10: =IF(AND(ISNUMBER(O10),ISNUMBER(X10)),MIN(O10,X10),IF(ISNUMBER(O10),O10,X10)) | U10: =IF(AND(A10="",B10="",D10=""),"",IF(L10="Non","Inactif",IF(AND(NOT(ISNUMBER(R10)),NOT(ISNUMBER(S10))),"À compléter",IF(OR(AND(ISNUMBER(R10),N(R10)<0),AND(ISNUMBER(S10),N(S10)<0)),"En retard",IF(OR(AND(ISNUMBER(R10),N(R10)<=p_soon),AND(ISNUMBER(S10),N(S10)<=p_soon_pct*N(G10))),"Bientôt","À jour"))))) | V10: =IF(AND(A10="",B10="",D10=""),"",IF(A10="","N° de plan manquant",IF(COUNTIF($A$6:$A$505,A10)>1,"N° de plan en double",IF(B10="","Équipement manquant",IF(ISNA(MATCH(B10,eq_code,0)),"Équipement inconnu",IF(D10="","Tâche manquante",IF(E10="","Déclenchement manquant",IF(AND(E10<>"Calendrier",E10<>"Compteur",E10<>"Au premier des deux"),"Déclenchement inconnu",IF(AND(E10<>"Compteur",OR(NOT(ISNUMBER(F10)),N(F10)<=0)),"Périodicité en jours manquante",IF(AND(E10<>"Calendrier",OR(NOT(ISNUMBER(G10)),N(G10)<=0)),"Périodicité compteur manquante",IF(AND(J10<>"",OR(NOT(ISNUMBER(J10)),N(J10)<=0)),"Date de réalisation invalide",IF(AND(K10<>"",OR(NOT(ISNUMBER(K10)),N(K10)<0)),"Compteur de réalisation invalide",IF(AND(E10<>"Compteur",N(M10)=0,IFERROR(N(INDEX(eq_start,MATCH(B10,eq_code,0))),0)=0),"Date de départ manquante",IF(AND(E10<>"Calendrier",K10="",N(N10)=0),"Compteur de départ manquant",IF(AND(E10<>"Calendrier",N(Q10)=0),"Relevé compteur manquant (Équipements)",IF(AND(I10<>"",ISNA(MATCH(I10,tech_name,0))),"Technicien inconnu",IF(AND(L10<>"",L10<>"Oui",L10<>"Non"),"Actif : Oui ou Non","OK"))))))))))))))))) | W10: =IFERROR(N(INDEX(eq_use,MATCH(B10,eq_code,0))),0) -> 0 | X10: =IF(AND(ISNUMBER(S10),W10>0),p_today+MAX(0,ROUNDUP(S10*7/W10,0)),"") | Y10: =IF(AND(ISNUMBER(T10),OR(U10="En retard",U10="Bientôt",U10="À jour")),IF(AND(ISNUMBER(O10),ISNUMBER(X10)),MIN(F10,G10*7/W10),IF(ISNUMBER(O10),F10,G10*7/W10)),"") | Z10: =IF(OR(U10="En retard",U10="Bientôt"),IF(U10="En retard",0,1)*1000000000+IF(AB10="A",0,IF(AB10="B",1,IF(AB10="C",2,3)))*100000000+IF(ISNUMBER(T10),T10,p_today)*1000+ROW()-5,"") | AA10: =IF(Z10="","",COUNTIF($Z$6:$Z$505,"<"&Z10)+1) | AB10: =IFERROR(INDEX(eq_crit,MATCH(B10,eq_code,0))&"","")
C11: =IF(B11="","",IFERROR(INDEX(eq_des,MATCH(B11,eq_code,0))&"","Équipement inconnu")) | M11: =IF(AND(A11="",B11="",D11=""),"",MAX(N(J11),IF(A11="",0,SUMPRODUCT(MAX((in_plan=A11)*in_prev*in_dnum))))) | N11: =IF(AND(A11="",B11="",D11=""),"",MAX(N(K11),IF(A11="",0,SUMPRODUCT(MAX((in_plan=A11)*in_prev*in_cnum))))) | O11: =IF(AND(OR(E11="Calendrier",E11="Au premier des deux"),N(F11)>0,IF(N(M11)>0,M11,IFERROR(N(INDEX(eq_start,MATCH(B11,eq_code,0))),0))>0),IF(N(M11)>0,M11,IFERROR(N(INDEX(eq_start,MATCH(B11,eq_code,0))),0))+F11,"") | P11: =IF(AND(OR(E11="Compteur",E11="Au premier des deux"),N(G11)>0),N(N11)+G11,"") | Q11: =IF(B11="","",IFERROR(N(INDEX(eq_cnt,MATCH(B11,eq_code,0))),"")) | R11: =IF(ISNUMBER(O11),O11-p_today,"") | S11: =IF(AND(ISNUMBER(P11),N(Q11)>0),P11-Q11,"") | T11: =IF(AND(ISNUMBER(O11),ISNUMBER(X11)),MIN(O11,X11),IF(ISNUMBER(O11),O11,X11)) | U11: =IF(AND(A11="",B11="",D11=""),"",IF(L11="Non","Inactif",IF(AND(NOT(ISNUMBER(R11)),NOT(ISNUMBER(S11))),"À compléter",IF(OR(AND(ISNUMBER(R11),N(R11)<0),AND(ISNUMBER(S11),N(S11)<0)),"En retard",IF(OR(AND(ISNUMBER(R11),N(R11)<=p_soon),AND(ISNUMBER(S11),N(S11)<=p_soon_pct*N(G11))),"Bientôt","À jour"))))) | V11: =IF(AND(A11="",B11="",D11=""),"",IF(A11="","N° de plan manquant",IF(COUNTIF($A$6:$A$505,A11)>1,"N° de plan en double",IF(B11="","Équipement manquant",IF(ISNA(MATCH(B11,eq_code,0)),"Équipement inconnu",IF(D11="","Tâche manquante",IF(E11="","Déclenchement manquant",IF(AND(E11<>"Calendrier",E11<>"Compteur",E11<>"Au premier des deux"),"Déclenchement inconnu",IF(AND(E11<>"Compteur",OR(NOT(ISNUMBER(F11)),N(F11)<=0)),"Périodicité en jours manquante",IF(AND(E11<>"Calendrier",OR(NOT(ISNUMBER(G11)),N(G11)<=0)),"Périodicité compteur manquante",IF(AND(J11<>"",OR(NOT(ISNUMBER(J11)),N(J11)<=0)),"Date de réalisation invalide",IF(AND(K11<>"",OR(NOT(ISNUMBER(K11)),N(K11)<0)),"Compteur de réalisation invalide",IF(AND(E11<>"Compteur",N(M11)=0,IFERROR(N(INDEX(eq_start,MATCH(B11,eq_code,0))),0)=0),"Date de départ manquante",IF(AND(E11<>"Calendrier",K11="",N(N11)=0),"Compteur de départ manquant",IF(AND(E11<>"Calendrier",N(Q11)=0),"Relevé compteur manquant (Équipements)",IF(AND(I11<>"",ISNA(MATCH(I11,tech_name,0))),"Technicien inconnu",IF(AND(L11<>"",L11<>"Oui",L11<>"Non"),"Actif : Oui ou Non","OK"))))))))))))))))) | W11: =IFERROR(N(INDEX(eq_use,MATCH(B11,eq_code,0))),0) -> 0 | X11: =IF(AND(ISNUMBER(S11),W11>0),p_today+MAX(0,ROUNDUP(S11*7/W11,0)),"") | Y11: =IF(AND(ISNUMBER(T11),OR(U11="En retard",U11="Bientôt",U11="À jour")),IF(AND(ISNUMBER(O11),ISNUMBER(X11)),MIN(F11,G11*7/W11),IF(ISNUMBER(O11),F11,G11*7/W11)),"") | Z11: =IF(OR(U11="En retard",U11="Bientôt"),IF(U11="En retard",0,1)*1000000000+IF(AB11="A",0,IF(AB11="B",1,IF(AB11="C",2,3)))*100000000+IF(ISNUMBER(T11),T11,p_today)*1000+ROW()-5,"") | AA11: =IF(Z11="","",COUNTIF($Z$6:$Z$505,"<"&Z11)+1) | AB11: =IFERROR(INDEX(eq_crit,MATCH(B11,eq_code,0))&"","")
C12: =IF(B12="","",IFERROR(INDEX(eq_des,MATCH(B12,eq_code,0))&"","Équipement inconnu")) | M12: =IF(AND(A12="",B12="",D12=""),"",MAX(N(J12),IF(A12="",0,SUMPRODUCT(MAX((in_plan=A12)*in_prev*in_dnum))))) | N12: =IF(AND(A12="",B12="",D12=""),"",MAX(N(K12),IF(A12="",0,SUMPRODUCT(MAX((in_plan=A12)*in_prev*in_cnum))))) | O12: =IF(AND(OR(E12="Calendrier",E12="Au premier des deux"),N(F12)>0,IF(N(M12)>0,M12,IFERROR(N(INDEX(eq_start,MATCH(B12,eq_code,0))),0))>0),IF(N(M12)>0,M12,IFERROR(N(INDEX(eq_start,MATCH(B12,eq_code,0))),0))+F12,"") | P12: =IF(AND(OR(E12="Compteur",E12="Au premier des deux"),N(G12)>0),N(N12)+G12,"") | Q12: =IF(B12="","",IFERROR(N(INDEX(eq_cnt,MATCH(B12,eq_code,0))),"")) | R12: =IF(ISNUMBER(O12),O12-p_today,"") | S12: =IF(AND(ISNUMBER(P12),N(Q12)>0),P12-Q12,"") | T12: =IF(AND(ISNUMBER(O12),ISNUMBER(X12)),MIN(O12,X12),IF(ISNUMBER(O12),O12,X12)) | U12: =IF(AND(A12="",B12="",D12=""),"",IF(L12="Non","Inactif",IF(AND(NOT(ISNUMBER(R12)),NOT(ISNUMBER(S12))),"À compléter",IF(OR(AND(ISNUMBER(R12),N(R12)<0),AND(ISNUMBER(S12),N(S12)<0)),"En retard",IF(OR(AND(ISNUMBER(R12),N(R12)<=p_soon),AND(ISNUMBER(S12),N(S12)<=p_soon_pct*N(G12))),"Bientôt","À jour"))))) | V12: =IF(AND(A12="",B12="",D12=""),"",IF(A12="","N° de plan manquant",IF(COUNTIF($A$6:$A$505,A12)>1,"N° de plan en double",IF(B12="","Équipement manquant",IF(ISNA(MATCH(B12,eq_code,0)),"Équipement inconnu",IF(D12="","Tâche manquante",IF(E12="","Déclenchement manquant",IF(AND(E12<>"Calendrier",E12<>"Compteur",E12<>"Au premier des deux"),"Déclenchement inconnu",IF(AND(E12<>"Compteur",OR(NOT(ISNUMBER(F12)),N(F12)<=0)),"Périodicité en jours manquante",IF(AND(E12<>"Calendrier",OR(NOT(ISNUMBER(G12)),N(G12)<=0)),"Périodicité compteur manquante",IF(AND(J12<>"",OR(NOT(ISNUMBER(J12)),N(J12)<=0)),"Date de réalisation invalide",IF(AND(K12<>"",OR(NOT(ISNUMBER(K12)),N(K12)<0)),"Compteur de réalisation invalide",IF(AND(E12<>"Compteur",N(M12)=0,IFERROR(N(INDEX(eq_start,MATCH(B12,eq_code,0))),0)=0),"Date de départ manquante",IF(AND(E12<>"Calendrier",K12="",N(N12)=0),"Compteur de départ manquant",IF(AND(E12<>"Calendrier",N(Q12)=0),"Relevé compteur manquant (Équipements)",IF(AND(I12<>"",ISNA(MATCH(I12,tech_name,0))),"Technicien inconnu",IF(AND(L12<>"",L12<>"Oui",L12<>"Non"),"Actif : Oui ou Non","OK"))))))))))))))))) | W12: =IFERROR(N(INDEX(eq_use,MATCH(B12,eq_code,0))),0) -> 0 | X12: =IF(AND(ISNUMBER(S12),W12>0),p_today+MAX(0,ROUNDUP(S12*7/W12,0)),"") | Y12: =IF(AND(ISNUMBER(T12),OR(U12="En retard",U12="Bientôt",U12="À jour")),IF(AND(ISNUMBER(O12),ISNUMBER(X12)),MIN(F12,G12*7/W12),IF(ISNUMBER(O12),F12,G12*7/W12)),"") | Z12: =IF(OR(U12="En retard",U12="Bientôt"),IF(U12="En retard",0,1)*1000000000+IF(AB12="A",0,IF(AB12="B",1,IF(AB12="C",2,3)))*100000000+IF(ISNUMBER(T12),T12,p_today)*1000+ROW()-5,"") | AA12: =IF(Z12="","",COUNTIF($Z$6:$Z$505,"<"&Z12)+1) | AB12: =IFERROR(INDEX(eq_crit,MATCH(B12,eq_code,0))&"","")
C13: =IF(B13="","",IFERROR(INDEX(eq_des,MATCH(B13,eq_code,0))&"","Équipement inconnu")) | M13: =IF(AND(A13="",B13="",D13=""),"",MAX(N(J13),IF(A13="",0,SUMPRODUCT(MAX((in_plan=A13)*in_prev*in_dnum))))) | N13: =IF(AND(A13="",B13="",D13=""),"",MAX(N(K13),IF(A13="",0,SUMPRODUCT(MAX((in_plan=A13)*in_prev*in_cnum))))) | O13: =IF(AND(OR(E13="Calendrier",E13="Au premier des deux"),N(F13)>0,IF(N(M13)>0,M13,IFERROR(N(INDEX(eq_start,MATCH(B13,eq_code,0))),0))>0),IF(N(M13)>0,M13,IFERROR(N(INDEX(eq_start,MATCH(B13,eq_code,0))),0))+F13,"") | P13: =IF(AND(OR(E13="Compteur",E13="Au premier des deux"),N(G13)>0),N(N13)+G13,"") | Q13: =IF(B13="","",IFERROR(N(INDEX(eq_cnt,MATCH(B13,eq_code,0))),"")) | R13: =IF(ISNUMBER(O13),O13-p_today,"") | S13: =IF(AND(ISNUMBER(P13),N(Q13)>0),P13-Q13,"") | T13: =IF(AND(ISNUMBER(O13),ISNUMBER(X13)),MIN(O13,X13),IF(ISNUMBER(O13),O13,X13)) | U13: =IF(AND(A13="",B13="",D13=""),"",IF(L13="Non","Inactif",IF(AND(NOT(ISNUMBER(R13)),NOT(ISNUMBER(S13))),"À compléter",IF(OR(AND(ISNUMBER(R13),N(R13)<0),AND(ISNUMBER(S13),N(S13)<0)),"En retard",IF(OR(AND(ISNUMBER(R13),N(R13)<=p_soon),AND(ISNUMBER(S13),N(S13)<=p_soon_pct*N(G13))),"Bientôt","À jour"))))) | V13: =IF(AND(A13="",B13="",D13=""),"",IF(A13="","N° de plan manquant",IF(COUNTIF($A$6:$A$505,A13)>1,"N° de plan en double",IF(B13="","Équipement manquant",IF(ISNA(MATCH(B13,eq_code,0)),"Équipement inconnu",IF(D13="","Tâche manquante",IF(E13="","Déclenchement manquant",IF(AND(E13<>"Calendrier",E13<>"Compteur",E13<>"Au premier des deux"),"Déclenchement inconnu",IF(AND(E13<>"Compteur",OR(NOT(ISNUMBER(F13)),N(F13)<=0)),"Périodicité en jours manquante",IF(AND(E13<>"Calendrier",OR(NOT(ISNUMBER(G13)),N(G13)<=0)),"Périodicité compteur manquante",IF(AND(J13<>"",OR(NOT(ISNUMBER(J13)),N(J13)<=0)),"Date de réalisation invalide",IF(AND(K13<>"",OR(NOT(ISNUMBER(K13)),N(K13)<0)),"Compteur de réalisation invalide",IF(AND(E13<>"Compteur",N(M13)=0,IFERROR(N(INDEX(eq_start,MATCH(B13,eq_code,0))),0)=0),"Date de départ manquante",IF(AND(E13<>"Calendrier",K13="",N(N13)=0),"Compteur de départ manquant",IF(AND(E13<>"Calendrier",N(Q13)=0),"Relevé compteur manquant (Équipements)",IF(AND(I13<>"",ISNA(MATCH(I13,tech_name,0))),"Technicien inconnu",IF(AND(L13<>"",L13<>"Oui",L13<>"Non"),"Actif : Oui ou Non","OK"))))))))))))))))) | W13: =IFERROR(N(INDEX(eq_use,MATCH(B13,eq_code,0))),0) -> 0 | X13: =IF(AND(ISNUMBER(S13),W13>0),p_today+MAX(0,ROUNDUP(S13*7/W13,0)),"") | Y13: =IF(AND(ISNUMBER(T13),OR(U13="En retard",U13="Bientôt",U13="À jour")),IF(AND(ISNUMBER(O13),ISNUMBER(X13)),MIN(F13,G13*7/W13),IF(ISNUMBER(O13),F13,G13*7/W13)),"") | Z13: =IF(OR(U13="En retard",U13="Bientôt"),IF(U13="En retard",0,1)*1000000000+IF(AB13="A",0,IF(AB13="B",1,IF(AB13="C",2,3)))*100000000+IF(ISNUMBER(T13),T13,p_today)*1000+ROW()-5,"") | AA13: =IF(Z13="","",COUNTIF($Z$6:$Z$505,"<"&Z13)+1) | AB13: =IFERROR(INDEX(eq_crit,MATCH(B13,eq_code,0))&"","")
C14: =IF(B14="","",IFERROR(INDEX(eq_des,MATCH(B14,eq_code,0))&"","Équipement inconnu")) | M14: =IF(AND(A14="",B14="",D14=""),"",MAX(N(J14),IF(A14="",0,SUMPRODUCT(MAX((in_plan=A14)*in_prev*in_dnum))))) | N14: =IF(AND(A14="",B14="",D14=""),"",MAX(N(K14),IF(A14="",0,SUMPRODUCT(MAX((in_plan=A14)*in_prev*in_cnum))))) | O14: =IF(AND(OR(E14="Calendrier",E14="Au premier des deux"),N(F14)>0,IF(N(M14)>0,M14,IFERROR(N(INDEX(eq_start,MATCH(B14,eq_code,0))),0))>0),IF(N(M14)>0,M14,IFERROR(N(INDEX(eq_start,MATCH(B14,eq_code,0))),0))+F14,"") | P14: =IF(AND(OR(E14="Compteur",E14="Au premier des deux"),N(G14)>0),N(N14)+G14,"") | Q14: =IF(B14="","",IFERROR(N(INDEX(eq_cnt,MATCH(B14,eq_code,0))),"")) | R14: =IF(ISNUMBER(O14),O14-p_today,"") | S14: =IF(AND(ISNUMBER(P14),N(Q14)>0),P14-Q14,"") | T14: =IF(AND(ISNUMBER(O14),ISNUMBER(X14)),MIN(O14,X14),IF(ISNUMBER(O14),O14,X14)) | U14: =IF(AND(A14="",B14="",D14=""),"",IF(L14="Non","Inactif",IF(AND(NOT(ISNUMBER(R14)),NOT(ISNUMBER(S14))),"À compléter",IF(OR(AND(ISNUMBER(R14),N(R14)<0),AND(ISNUMBER(S14),N(S14)<0)),"En retard",IF(OR(AND(ISNUMBER(R14),N(R14)<=p_soon),AND(ISNUMBER(S14),N(S14)<=p_soon_pct*N(G14))),"Bientôt","À jour"))))) | V14: =IF(AND(A14="",B14="",D14=""),"",IF(A14="","N° de plan manquant",IF(COUNTIF($A$6:$A$505,A14)>1,"N° de plan en double",IF(B14="","Équipement manquant",IF(ISNA(MATCH(B14,eq_code,0)),"Équipement inconnu",IF(D14="","Tâche manquante",IF(E14="","Déclenchement manquant",IF(AND(E14<>"Calendrier",E14<>"Compteur",E14<>"Au premier des deux"),"Déclenchement inconnu",IF(AND(E14<>"Compteur",OR(NOT(ISNUMBER(F14)),N(F14)<=0)),"Périodicité en jours manquante",IF(AND(E14<>"Calendrier",OR(NOT(ISNUMBER(G14)),N(G14)<=0)),"Périodicité compteur manquante",IF(AND(J14<>"",OR(NOT(ISNUMBER(J14)),N(J14)<=0)),"Date de réalisation invalide",IF(AND(K14<>"",OR(NOT(ISNUMBER(K14)),N(K14)<0)),"Compteur de réalisation invalide",IF(AND(E14<>"Compteur",N(M14)=0,IFERROR(N(INDEX(eq_start,MATCH(B14,eq_code,0))),0)=0),"Date de départ manquante",IF(AND(E14<>"Calendrier",K14="",N(N14)=0),"Compteur de départ manquant",IF(AND(E14<>"Calendrier",N(Q14)=0),"Relevé compteur manquant (Équipements)",IF(AND(I14<>"",ISNA(MATCH(I14,tech_name,0))),"Technicien inconnu",IF(AND(L14<>"",L14<>"Oui",L14<>"Non"),"Actif : Oui ou Non","OK"))))))))))))))))) | W14: =IFERROR(N(INDEX(eq_use,MATCH(B14,eq_code,0))),0) -> 0 | X14: =IF(AND(ISNUMBER(S14),W14>0),p_today+MAX(0,ROUNDUP(S14*7/W14,0)),"") | Y14: =IF(AND(ISNUMBER(T14),OR(U14="En retard",U14="Bientôt",U14="À jour")),IF(AND(ISNUMBER(O14),ISNUMBER(X14)),MIN(F14,G14*7/W14),IF(ISNUMBER(O14),F14,G14*7/W14)),"") | Z14: =IF(OR(U14="En retard",U14="Bientôt"),IF(U14="En retard",0,1)*1000000000+IF(AB14="A",0,IF(AB14="B",1,IF(AB14="C",2,3)))*100000000+IF(ISNUMBER(T14),T14,p_today)*1000+ROW()-5,"") | AA14: =IF(Z14="","",COUNTIF($Z$6:$Z$505,"<"&Z14)+1) | AB14: =IFERROR(INDEX(eq_crit,MATCH(B14,eq_code,0))&"","")
C15: =IF(B15="","",IFERROR(INDEX(eq_des,MATCH(B15,eq_code,0))&"","Équipement inconnu")) | M15: =IF(AND(A15="",B15="",D15=""),"",MAX(N(J15),IF(A15="",0,SUMPRODUCT(MAX((in_plan=A15)*in_prev*in_dnum))))) | N15: =IF(AND(A15="",B15="",D15=""),"",MAX(N(K15),IF(A15="",0,SUMPRODUCT(MAX((in_plan=A15)*in_prev*in_cnum))))) | O15: =IF(AND(OR(E15="Calendrier",E15="Au premier des deux"),N(F15)>0,IF(N(M15)>0,M15,IFERROR(N(INDEX(eq_start,MATCH(B15,eq_code,0))),0))>0),IF(N(M15)>0,M15,IFERROR(N(INDEX(eq_start,MATCH(B15,eq_code,0))),0))+F15,"") | P15: =IF(AND(OR(E15="Compteur",E15="Au premier des deux"),N(G15)>0),N(N15)+G15,"") | Q15: =IF(B15="","",IFERROR(N(INDEX(eq_cnt,MATCH(B15,eq_code,0))),"")) | R15: =IF(ISNUMBER(O15),O15-p_today,"") | S15: =IF(AND(ISNUMBER(P15),N(Q15)>0),P15-Q15,"") | T15: =IF(AND(ISNUMBER(O15),ISNUMBER(X15)),MIN(O15,X15),IF(ISNUMBER(O15),O15,X15)) | U15: =IF(AND(A15="",B15="",D15=""),"",IF(L15="Non","Inactif",IF(AND(NOT(ISNUMBER(R15)),NOT(ISNUMBER(S15))),"À compléter",IF(OR(AND(ISNUMBER(R15),N(R15)<0),AND(ISNUMBER(S15),N(S15)<0)),"En retard",IF(OR(AND(ISNUMBER(R15),N(R15)<=p_soon),AND(ISNUMBER(S15),N(S15)<=p_soon_pct*N(G15))),"Bientôt","À jour"))))) | V15: =IF(AND(A15="",B15="",D15=""),"",IF(A15="","N° de plan manquant",IF(COUNTIF($A$6:$A$505,A15)>1,"N° de plan en double",IF(B15="","Équipement manquant",IF(ISNA(MATCH(B15,eq_code,0)),"Équipement inconnu",IF(D15="","Tâche manquante",IF(E15="","Déclenchement manquant",IF(AND(E15<>"Calendrier",E15<>"Compteur",E15<>"Au premier des deux"),"Déclenchement inconnu",IF(AND(E15<>"Compteur",OR(NOT(ISNUMBER(F15)),N(F15)<=0)),"Périodicité en jours manquante",IF(AND(E15<>"Calendrier",OR(NOT(ISNUMBER(G15)),N(G15)<=0)),"Périodicité compteur manquante",IF(AND(J15<>"",OR(NOT(ISNUMBER(J15)),N(J15)<=0)),"Date de réalisation invalide",IF(AND(K15<>"",OR(NOT(ISNUMBER(K15)),N(K15)<0)),"Compteur de réalisation invalide",IF(AND(E15<>"Compteur",N(M15)=0,IFERROR(N(INDEX(eq_start,MATCH(B15,eq_code,0))),0)=0),"Date de départ manquante",IF(AND(E15<>"Calendrier",K15="",N(N15)=0),"Compteur de départ manquant",IF(AND(E15<>"Calendrier",N(Q15)=0),"Relevé compteur manquant (Équipements)",IF(AND(I15<>"",ISNA(MATCH(I15,tech_name,0))),"Technicien inconnu",IF(AND(L15<>"",L15<>"Oui",L15<>"Non"),"Actif : Oui ou Non","OK"))))))))))))))))) | W15: =IFERROR(N(INDEX(eq_use,MATCH(B15,eq_code,0))),0) -> 0 | X15: =IF(AND(ISNUMBER(S15),W15>0),p_today+MAX(0,ROUNDUP(S15*7/W15,0)),"") | Y15: =IF(AND(ISNUMBER(T15),OR(U15="En retard",U15="Bientôt",U15="À jour")),IF(AND(ISNUMBER(O15),ISNUMBER(X15)),MIN(F15,G15*7/W15),IF(ISNUMBER(O15),F15,G15*7/W15)),"") | Z15: =IF(OR(U15="En retard",U15="Bientôt"),IF(U15="En retard",0,1)*1000000000+IF(AB15="A",0,IF(AB15="B",1,IF(AB15="C",2,3)))*100000000+IF(ISNUMBER(T15),T15,p_today)*1000+ROW()-5,"") | AA15: =IF(Z15="","",COUNTIF($Z$6:$Z$505,"<"&Z15)+1) | AB15: =IFERROR(INDEX(eq_crit,MATCH(B15,eq_code,0))&"","")
C16: =IF(B16="","",IFERROR(INDEX(eq_des,MATCH(B16,eq_code,0))&"","Équipement inconnu")) | M16: =IF(AND(A16="",B16="",D16=""),"",MAX(N(J16),IF(A16="",0,SUMPRODUCT(MAX((in_plan=A16)*in_prev*in_dnum))))) | N16: =IF(AND(A16="",B16="",D16=""),"",MAX(N(K16),IF(A16="",0,SUMPRODUCT(MAX((in_plan=A16)*in_prev*in_cnum))))) | O16: =IF(AND(OR(E16="Calendrier",E16="Au premier des deux"),N(F16)>0,IF(N(M16)>0,M16,IFERROR(N(INDEX(eq_start,MATCH(B16,eq_code,0))),0))>0),IF(N(M16)>0,M16,IFERROR(N(INDEX(eq_start,MATCH(B16,eq_code,0))),0))+F16,"") | P16: =IF(AND(OR(E16="Compteur",E16="Au premier des deux"),N(G16)>0),N(N16)+G16,"") | Q16: =IF(B16="","",IFERROR(N(INDEX(eq_cnt,MATCH(B16,eq_code,0))),"")) | R16: =IF(ISNUMBER(O16),O16-p_today,"") | S16: =IF(AND(ISNUMBER(P16),N(Q16)>0),P16-Q16,"") | T16: =IF(AND(ISNUMBER(O16),ISNUMBER(X16)),MIN(O16,X16),IF(ISNUMBER(O16),O16,X16)) | U16: =IF(AND(A16="",B16="",D16=""),"",IF(L16="Non","Inactif",IF(AND(NOT(ISNUMBER(R16)),NOT(ISNUMBER(S16))),"À compléter",IF(OR(AND(ISNUMBER(R16),N(R16)<0),AND(ISNUMBER(S16),N(S16)<0)),"En retard",IF(OR(AND(ISNUMBER(R16),N(R16)<=p_soon),AND(ISNUMBER(S16),N(S16)<=p_soon_pct*N(G16))),"Bientôt","À jour"))))) | V16: =IF(AND(A16="",B16="",D16=""),"",IF(A16="","N° de plan manquant",IF(COUNTIF($A$6:$A$505,A16)>1,"N° de plan en double",IF(B16="","Équipement manquant",IF(ISNA(MATCH(B16,eq_code,0)),"Équipement inconnu",IF(D16="","Tâche manquante",IF(E16="","Déclenchement manquant",IF(AND(E16<>"Calendrier",E16<>"Compteur",E16<>"Au premier des deux"),"Déclenchement inconnu",IF(AND(E16<>"Compteur",OR(NOT(ISNUMBER(F16)),N(F16)<=0)),"Périodicité en jours manquante",IF(AND(E16<>"Calendrier",OR(NOT(ISNUMBER(G16)),N(G16)<=0)),"Périodicité compteur manquante",IF(AND(J16<>"",OR(NOT(ISNUMBER(J16)),N(J16)<=0)),"Date de réalisation invalide",IF(AND(K16<>"",OR(NOT(ISNUMBER(K16)),N(K16)<0)),"Compteur de réalisation invalide",IF(AND(E16<>"Compteur",N(M16)=0,IFERROR(N(INDEX(eq_start,MATCH(B16,eq_code,0))),0)=0),"Date de départ manquante",IF(AND(E16<>"Calendrier",K16="",N(N16)=0),"Compteur de départ manquant",IF(AND(E16<>"Calendrier",N(Q16)=0),"Relevé compteur manquant (Équipements)",IF(AND(I16<>"",ISNA(MATCH(I16,tech_name,0))),"Technicien inconnu",IF(AND(L16<>"",L16<>"Oui",L16<>"Non"),"Actif : Oui ou Non","OK"))))))))))))))))) | W16: =IFERROR(N(INDEX(eq_use,MATCH(B16,eq_code,0))),0) -> 0 | X16: =IF(AND(ISNUMBER(S16),W16>0),p_today+MAX(0,ROUNDUP(S16*7/W16,0)),"") | Y16: =IF(AND(ISNUMBER(T16),OR(U16="En retard",U16="Bientôt",U16="À jour")),IF(AND(ISNUMBER(O16),ISNUMBER(X16)),MIN(F16,G16*7/W16),IF(ISNUMBER(O16),F16,G16*7/W16)),"") | Z16: =IF(OR(U16="En retard",U16="Bientôt"),IF(U16="En retard",0,1)*1000000000+IF(AB16="A",0,IF(AB16="B",1,IF(AB16="C",2,3)))*100000000+IF(ISNUMBER(T16),T16,p_today)*1000+ROW()-5,"") | AA16: =IF(Z16="","",COUNTIF($Z$6:$Z$505,"<"&Z16)+1) | AB16: =IFERROR(INDEX(eq_crit,MATCH(B16,eq_code,0))&"","")
C17: =IF(B17="","",IFERROR(INDEX(eq_des,MATCH(B17,eq_code,0))&"","Équipement inconnu")) | M17: =IF(AND(A17="",B17="",D17=""),"",MAX(N(J17),IF(A17="",0,SUMPRODUCT(MAX((in_plan=A17)*in_prev*in_dnum))))) | N17: =IF(AND(A17="",B17="",D17=""),"",MAX(N(K17),IF(A17="",0,SUMPRODUCT(MAX((in_plan=A17)*in_prev*in_cnum))))) | O17: =IF(AND(OR(E17="Calendrier",E17="Au premier des deux"),N(F17)>0,IF(N(M17)>0,M17,IFERROR(N(INDEX(eq_start,MATCH(B17,eq_code,0))),0))>0),IF(N(M17)>0,M17,IFERROR(N(INDEX(eq_start,MATCH(B17,eq_code,0))),0))+F17,"") | P17: =IF(AND(OR(E17="Compteur",E17="Au premier des deux"),N(G17)>0),N(N17)+G17,"") | Q17: =IF(B17="","",IFERROR(N(INDEX(eq_cnt,MATCH(B17,eq_code,0))),"")) | R17: =IF(ISNUMBER(O17),O17-p_today,"") | S17: =IF(AND(ISNUMBER(P17),N(Q17)>0),P17-Q17,"") | T17: =IF(AND(ISNUMBER(O17),ISNUMBER(X17)),MIN(O17,X17),IF(ISNUMBER(O17),O17,X17)) | U17: =IF(AND(A17="",B17="",D17=""),"",IF(L17="Non","Inactif",IF(AND(NOT(ISNUMBER(R17)),NOT(ISNUMBER(S17))),"À compléter",IF(OR(AND(ISNUMBER(R17),N(R17)<0),AND(ISNUMBER(S17),N(S17)<0)),"En retard",IF(OR(AND(ISNUMBER(R17),N(R17)<=p_soon),AND(ISNUMBER(S17),N(S17)<=p_soon_pct*N(G17))),"Bientôt","À jour"))))) | V17: =IF(AND(A17="",B17="",D17=""),"",IF(A17="","N° de plan manquant",IF(COUNTIF($A$6:$A$505,A17)>1,"N° de plan en double",IF(B17="","Équipement manquant",IF(ISNA(MATCH(B17,eq_code,0)),"Équipement inconnu",IF(D17="","Tâche manquante",IF(E17="","Déclenchement manquant",IF(AND(E17<>"Calendrier",E17<>"Compteur",E17<>"Au premier des deux"),"Déclenchement inconnu",IF(AND(E17<>"Compteur",OR(NOT(ISNUMBER(F17)),N(F17)<=0)),"Périodicité en jours manquante",IF(AND(E17<>"Calendrier",OR(NOT(ISNUMBER(G17)),N(G17)<=0)),"Périodicité compteur manquante",IF(AND(J17<>"",OR(NOT(ISNUMBER(J17)),N(J17)<=0)),"Date de réalisation invalide",IF(AND(K17<>"",OR(NOT(ISNUMBER(K17)),N(K17)<0)),"Compteur de réalisation invalide",IF(AND(E17<>"Compteur",N(M17)=0,IFERROR(N(INDEX(eq_start,MATCH(B17,eq_code,0))),0)=0),"Date de départ manquante",IF(AND(E17<>"Calendrier",K17="",N(N17)=0),"Compteur de départ manquant",IF(AND(E17<>"Calendrier",N(Q17)=0),"Relevé compteur manquant (Équipements)",IF(AND(I17<>"",ISNA(MATCH(I17,tech_name,0))),"Technicien inconnu",IF(AND(L17<>"",L17<>"Oui",L17<>"Non"),"Actif : Oui ou Non","OK"))))))))))))))))) | W17: =IFERROR(N(INDEX(eq_use,MATCH(B17,eq_code,0))),0) -> 0 | X17: =IF(AND(ISNUMBER(S17),W17>0),p_today+MAX(0,ROUNDUP(S17*7/W17,0)),"") | Y17: =IF(AND(ISNUMBER(T17),OR(U17="En retard",U17="Bientôt",U17="À jour")),IF(AND(ISNUMBER(O17),ISNUMBER(X17)),MIN(F17,G17*7/W17),IF(ISNUMBER(O17),F17,G17*7/W17)),"") | Z17: =IF(OR(U17="En retard",U17="Bientôt"),IF(U17="En retard",0,1)*1000000000+IF(AB17="A",0,IF(AB17="B",1,IF(AB17="C",2,3)))*100000000+IF(ISNUMBER(T17),T17,p_today)*1000+ROW()-5,"") | AA17: =IF(Z17="","",COUNTIF($Z$6:$Z$505,"<"&Z17)+1) | AB17: =IFERROR(INDEX(eq_crit,MATCH(B17,eq_code,0))&"","")
... C505: =IF(B505="","",IFERROR(INDEX(eq_des,MATCH(B505,eq_code,0))&"","Équipement inconnu")) | M505: =IF(AND(A505="",B505="",D505=""),"",MAX(N(J505),IF(A505="",0,SUMPRODUCT(MAX((in_plan=A505)*in_prev*in_dnum))))) | N505: =IF(AND(A505="",B505="",D505=""),"",MAX(N(K505),IF(A505="",0,SUMPRODUCT(MAX((in_plan=A505)*in_prev*in_cnum))))) | O505: =IF(AND(OR(E505="Calendrier",E505="Au premier des deux"),N(F505)>0,IF(N(M505)>0,M505,IFERROR(N(INDEX(eq_start,MATCH(B505,eq_code,0))),0))>0),IF(N(M505)>0,M505,IFERROR(N(INDEX(eq_start,MATCH(B505,eq_code,0))),0))+F505,"") | P505: =IF(AND(OR(E505="Compteur",E505="Au premier des deux"),N(G505)>0),N(N505)+G505,"") | Q505: =IF(B505="","",IFERROR(N(INDEX(eq_cnt,MATCH(B505,eq_code,0))),"")) | R505: =IF(ISNUMBER(O505),O505-p_today,"") | S505: =IF(AND(ISNUMBER(P505),N(Q505)>0),P505-Q505,"") | T505: =IF(AND(ISNUMBER(O505),ISNUMBER(X505)),MIN(O505,X505),IF(ISNUMBER(O505),O505,X505)) | U505: =IF(AND(A505="",B505="",D505=""),"",IF(L505="Non","Inactif",IF(AND(NOT(ISNUMBER(R505)),NOT(ISNUMBER(S505))),"À compléter",IF(OR(AND(ISNUMBER(R505),N(R505)<0),AND(ISNUMBER(S505),N(S505)<0)),"En retard",IF(OR(AND(ISNUMBER(R505),N(R505)<=p_soon),AND(ISNUMBER(S505),N(S505)<=p_soon_pct*N(G505))),"Bientôt","À jour"))))) | V505: =IF(AND(A505="",B505="",D505=""),"",IF(A505="","N° de plan manquant",IF(COUNTIF($A$6:$A$505,A505)>1,"N° de plan en double",IF(B505="","Équipement manquant",IF(ISNA(MATCH(B505,eq_code,0)),"Équipement inconnu",IF(D505="","Tâche manquante",IF(E505="","Déclenchement manquant",IF(AND(E505<>"Calendrier",E505<>"Compteur",E505<>"Au premier des deux"),"Déclenchement inconnu",IF(AND(E505<>"Compteur",OR(NOT(ISNUMBER(F505)),N(F505)<=0)),"Périodicité en jours manquante",IF(AND(E505<>"Calendrier",OR(NOT(ISNUMBER(G505)),N(G505)<=0)),"Périodicité compteur manquante",IF(AND(J505<>"",OR(NOT(ISNUMBER(J505)),N(J505)<=0)),"Date de réalisation invalide",IF(AND(K505<>"",OR(NOT(ISNUMBER(K505)),N(K505)<0)),"Compteur de réalisation invalide",IF(AND(E505<>"Compteur",N(M505)=0,IFERROR(N(INDEX(eq_start,MATCH(B505,eq_code,0))),0)=0),"Date de départ manquante",IF(AND(E505<>"Calendrier",K505="",N(N505)=0),"Compteur de départ manquant",IF(AND(E505<>"Calendrier",N(Q505)=0),"Relevé compteur manquant (Équipements)",IF(AND(I505<>"",ISNA(MATCH(I505,tech_name,0))),"Technicien inconnu",IF(AND(L505<>"",L505<>"Oui",L505<>"Non"),"Actif : Oui ou Non","OK"))))))))))))))))) | W505: =IFERROR(N(INDEX(eq_use,MATCH(B505,eq_code,0))),0) -> 0 | X505: =IF(AND(ISNUMBER(S505),W505>0),p_today+MAX(0,ROUNDUP(S505*7/W505,0)),"") | Y505: =IF(AND(ISNUMBER(T505),OR(U505="En retard",U505="Bientôt",U505="À jour")),IF(AND(ISNUMBER(O505),ISNUMBER(X505)),MIN(F505,G505*7/W505),IF(ISNUMBER(O505),F505,G505*7/W505)),"") | Z505: =IF(OR(U505="En retard",U505="Bientôt"),IF(U505="En retard",0,1)*1000000000+IF(AB505="A",0,IF(AB505="B",1,IF(AB505="C",2,3)))*100000000+IF(ISNUMBER(T505),T505,p_today)*1000+ROW()-5,"") | AA505: =IF(Z505="","",COUNTIF($Z$6:$Z$505,"<"&Z505)+1) | AB505: =IFERROR(INDEX(eq_crit,MATCH(B505,eq_code,0))&"","")

Sheet Interventions
A1: Interventions | P1: ⌂ Mode d'emploi
A2: Le journal de toutes les interventions. Un préventif terminé met à jour la dernière réalisation de son plan.
Q3: Saisie | R3: Calcul auto
A5: N° | B5: Date | C5: Équipement | D5: Désignation | E5: Type | F5: Plan lié | G5: Description (panne ou travail) | H5: Cause constatée | I5: Statut | J5: Compteur relevé | K5: Durée d'arrêt (h) | L5: Durée d'intervention (h) | M5: Technicien | N5: Coût pièces | O5: Main-d'oeuvre | P5: Autres coûts | Q5: Coût total | R5: Contrôle | S5: Date | T5: Compteur | U5: Arrêt | V5: Travail | W5: Fait | X5: Préventif fait | Y5: Pièces | Z5: Autres
A6: =IF(COUNTA(B6:C6,E6:G6,I6)=0,"","BI-"&RIGHT("0000"&(ROW()-5),4)) | D6: =IF(C6="","",IFERROR(INDEX(eq_des,MATCH(C6,eq_code,0))&"","Équipement inconnu")) | O6: =IF(A6="","",ROUND(V6*IFERROR(N(INDEX(tech_rate,MATCH(M6,tech_name,0))),0),2)) | Q6: =IF(A6="","",ROUND(Y6+O6+Z6,2)) | R6: =IF(A6="","",IF(S6=0,"Date manquante ou invalide",IF(C6="","Équipement manquant",IF(ISNA(MATCH(C6,eq_code,0)),"Équipement inconnu",IF(E6="","Type manquant",IF(AND(E6<>"Préventif",E6<>"Correctif",E6<>"Amélioratif"),"Type inconnu",IF(I6="","Statut manquant",IF(AND(I6<>"Terminée",I6<>"En cours",I6<>"À faire",I6<>"Annulée"),"Statut inconnu",IF(AND(E6="Préventif",F6=""),"Plan manquant (préventif)",IF(AND(F6<>"",ISNA(MATCH(F6,pl_num,0))),"Plan inconnu",IF(AND(F6<>"",IFERROR(INDEX(pl_eq,MATCH(F6,pl_num,0))&"",C6)<>C6),"Plan d'un autre équipement",IF(AND(J6<>"",OR(NOT(ISNUMBER(J6)),N(J6)<0)),"Compteur invalide",IF(OR(AND(K6<>"",OR(NOT(ISNUMBER(K6)),N(K6)<0)),AND(L6<>"",OR(NOT(ISNUMBER(L6)),N(L6)<0))),"Durée invalide",IF(OR(AND(N6<>"",OR(NOT(ISNUMBER(N6)),N(N6)<0)),AND(P6<>"",OR(NOT(ISNUMBER(P6)),N(P6)<0))),"Coût invalide",IF(AND(M6<>"",ISNA(MATCH(M6,tech_name,0))),"Technicien inconnu",IF(AND(I6="Terminée",S6>p_today),"Terminée à une date future",IF(AND(I6="Terminée",V6=0),"Durée d'intervention manquante",IF(AND(I6="Terminée",E6="Préventif",T6=0,OR(IFERROR(INDEX(pl_trig,MATCH(F6,pl_num,0))&"","")="Compteur",IFERROR(INDEX(pl_trig,MATCH(F6,pl_num,0))&"","")="Au premier des deux")),"Compteur manquant (plan au compteur)","OK")))))))))))))))))) | S6: =IF(AND(ISNUMBER(B6),N(B6)>0),INT(B6),0) -> 0 | T6: =IF(AND(ISNUMBER(J6),N(J6)>=0),N(J6),0) -> 0 | U6: =IF(AND(ISNUMBER(K6),N(K6)>0),N(K6),0) -> 0 | V6: =IF(AND(ISNUMBER(L6),N(L6)>0),N(L6),0) -> 0 | W6: =IF(AND(I6="Terminée",S6>0,C6<>"",ISNUMBER(MATCH(C6,eq_code,0))),1,0) -> 0 | X6: =IF(AND(W6=1,E6="Préventif"),1,0) -> 0 | Y6: =IF(AND(ISNUMBER(N6),N(N6)>0),N(N6),0) -> 0 | Z6: =IF(AND(ISNUMBER(P6),N(P6)>0),N(P6),0) -> 0
